BEGIN:VCALENDAR
VERSION:2.0
PRODID:-//eventon.com NONSGML v1.0//EN
BEGIN:VEVENT
UID:69e88daa122c1
DTSTAMP:20260422T105818
DTSTART:20220121T090000Z
DTEND:20220121T110000Z
LOCATION:
SUMMARY:Telefonsprechstunde unter 03496 700 347 od. 01578 9886435
DESCRIPTION: Telefonsprechstunde unter 03496 700 347 od. 01578 9886435
END:VEVENT
END:VCALENDAR