BEGIN:VCALENDAR
VERSION:2.0
PRODID:-//eventon.com NONSGML v1.0//EN
BEGIN:VEVENT
UID:69e4fe3bbeb88
DTSTAMP:20260419T180931
DTSTART:20211022T100000Z
DTEND:20211022T110000Z
LOCATION:
SUMMARY:Öffentliche Sprechstunde Köthen
DESCRIPTION: Am 22. Oktober können Sie mit mir und meinem Team am Halleschen Turm in Köthen ins Gespräch kommen. Die Sprechstunde findet in der Zeit von 12 bis 13 Uhr statt.
END:VEVENT
END:VCALENDAR